BEGIN:VCALENDAR
PRODID:-//Det Danske Spejderkorps//NONSGML Gruppeweb//EN
VERSION:2.0
CALSCALE:GREGORIAN
X-PUBLISHED-TTL:PT1H
X-WR-CALNAME:Mikroer (0. - 1. klasse)
METHOD:PUBLISH
BEGIN:VEVENT
UID:gruppeweb.dk:2102:event:1394
DTSTAMP:20260420T175220Z
LAST-MODIFIED:20250319T182358Z
SUMMARY:Arbejdsdag i Uglebo - for både voksne og børn
DESCRIPTION:Hej forældre.\n\nVi kan gøre en stor forskel for spejderne og
  lederne ved at hjælpe med at  \npasse på Uglebo. Vi mødes til den halv
 årlige arbejdsdag\, hvor vi hygger os  \nog gør hytten og udearealet for
 årsklart. Der vil være opgaver for både  \nstore og små\, og I skal ba
 re møde op. Vi sørger for drikkevarer og  \nrigeligt med snacks. Tilmeld
 ing er ikke nødvendig.\n\nVi glæder os til at se jer.\n\nMvh. bestyrelse
 n\n\n
URL:https://1sundby.dk/begivenhed/arbejdsdag-i-uglebo-baade-voksne-og-boern
DTSTART:20250511T090000Z
DTEND:20250511T110000Z
LOCATION:1. Sundby Gruppe\, Windsorvej 3\, 2300 København S
END:VEVENT
BEGIN:VEVENT
UID:gruppeweb.dk:2102:event:1423
DTSTAMP:20260420T175220Z
LAST-MODIFIED:20250518T151059Z
SUMMARY:Oprydning i Uglebo
DESCRIPTION:\n
URL:https://1sundby.dk/begivenhed/oprydning-i-uglebo-0
DTSTART:20250525T160000Z
DTEND:20250525T190000Z
LOCATION:1. Sundby Gruppe\, Windsorvej 3\, 2300 København S
END:VEVENT
BEGIN:VEVENT
UID:gruppeweb.dk:2102:event:1425
DTSTAMP:20260420T175220Z
LAST-MODIFIED:20250619T102833Z
SUMMARY:Sommerlejr 2025
DESCRIPTION:Vi skal i år til Jerndals lejren nær Hvalsø og mødes derfor
  alle fredag  \nden 20.6 kl. 17 på Tårnby station hvor turen gå i samle
 t flok\, med tog\,  \ntil Hvalsø station. Herfra går vi sammen til lejre
 n (ca. 2 km) med egen  \noppakning - (mikroernes oppakning vil blive kørt
  til lejren fra Hvalsø)\nLejren slutter igen søndag den 22.6. kl. 14.30 
 med afhentning i lejren.\nJerndalslejeren\, lodderne 1- 4330 Hvalsø\n\n
URL:https://1sundby.dk/begivenhed/sommerlejr-2025
DTSTART:20250620T150000Z
DTEND:20250622T123000Z
LOCATION:Jerndalslejren\, Lodderne 1\, 4330 Hvalsø
END:VEVENT
BEGIN:VEVENT
UID:gruppeweb.dk:2102:event:1427
DTSTAMP:20260420T175220Z
LAST-MODIFIED:20250713T200117Z
SUMMARY:Gruppetur 2025
DESCRIPTION:\n
URL:https://1sundby.dk/begivenhed/gruppetur-2025
DTSTART:20250822T170000Z
DTEND:20250823T110000Z
LOCATION:1. Sundby Gruppe\, Windsorvej 3\, 2300 København S
END:VEVENT
BEGIN:VEVENT
UID:gruppeweb.dk:2102:event:1477
DTSTAMP:20260420T175220Z
LAST-MODIFIED:20251114T103401Z
SUMMARY:Juletur 2025
DESCRIPTION:\n
URL:https://1sundby.dk/begivenhed/juletur-2025
DTSTART:20251121T170000Z
DTEND:20251123T130000Z
LOCATION:Bisserup lejren\, Remmerstrandvej 135\, ruds
END:VEVENT
BEGIN:VEVENT
UID:gruppeweb.dk:2102:event:1482
DTSTAMP:20260420T175220Z
LAST-MODIFIED:20260111T100433Z
SUMMARY:En tur på Araminoen
DESCRIPTION:\n
URL:https://1sundby.dk/begivenhed/en-tur-paa-araminoen
DTSTART:20260307T070000Z
DTEND:20260307T160000Z
LOCATION:1. Sundby Gruppe\, Windsorvej 3\, 2300 København S
END:VEVENT
BEGIN:VEVENT
UID:gruppeweb.dk:2102:event:1483
DTSTAMP:20260420T175220Z
LAST-MODIFIED:20260129T175710Z
SUMMARY:Tøndeslagning
DESCRIPTION:\n
URL:https://1sundby.dk/begivenhed/toendeslagning
DTSTART:20260222T123000Z
DTEND:20260222T150000Z
LOCATION:1. Sundby Gruppe\, Windsorvej 3\, 2300 København S
END:VEVENT
BEGIN:VEVENT
UID:gruppeweb.dk:2102:event:1530
DTSTAMP:20260420T175220Z
LAST-MODIFIED:20260330T154746Z
SUMMARY:Arbejdsdag i Uglebo
DESCRIPTION:\n
URL:https://1sundby.dk/begivenhed/arbejdsdag-i-uglebo-6
DTSTART:20260510T000000Z
DTEND:20260510T010000Z
LOCATION:
END:VEVENT
BEGIN:VEVENT
UID:gruppeweb.dk:2102:event:1461
DTSTAMP:20260420T175220Z
LAST-MODIFIED:20250923T174605Z
SUMMARY:Mikroovernatning i Uglebo
DESCRIPTION:\n
URL:https://1sundby.dk/begivenhed/mikroovernatning-i-uglebo
DTSTART:20251107T160000Z
DTEND:20251108T090000Z
LOCATION:
END:VEVENT
BEGIN:VEVENT
UID:gruppeweb.dk:2102:event:1462
DTSTAMP:20260420T175220Z
LAST-MODIFIED:20250923T174606Z
SUMMARY:Mikromøde
DESCRIPTION:\n
URL:https://1sundby.dk/begivenhed/mikromoede-79
DTSTART:20251201T010000Z
DTEND:20251201T183000Z
LOCATION:1. Sundby Gruppe\, Windsorvej 3\, 2300 København S
END:VEVENT
BEGIN:VEVENT
UID:gruppeweb.dk:2102:event:1463
DTSTAMP:20260420T175220Z
LAST-MODIFIED:20250923T174606Z
SUMMARY:Mikromøde
DESCRIPTION:\n
URL:https://1sundby.dk/begivenhed/mikromoede-80
DTSTART:20251124T010000Z
DTEND:20251124T183000Z
LOCATION:1. Sundby Gruppe\, Windsorvej 3\, 2300 København S
END:VEVENT
BEGIN:VEVENT
UID:gruppeweb.dk:2102:event:1464
DTSTAMP:20260420T175220Z
LAST-MODIFIED:20250923T174606Z
SUMMARY:Mikromøde
DESCRIPTION:\n
URL:https://1sundby.dk/begivenhed/mikromoede-81
DTSTART:20251117T010000Z
DTEND:20251117T183000Z
LOCATION:1. Sundby Gruppe\, Windsorvej 3\, 2300 København S
END:VEVENT
BEGIN:VEVENT
UID:gruppeweb.dk:2102:event:1465
DTSTAMP:20260420T175220Z
LAST-MODIFIED:20250923T174606Z
SUMMARY:Mikromøde
DESCRIPTION:\n
URL:https://1sundby.dk/begivenhed/mikromoede-82
DTSTART:20251110T010000Z
DTEND:20251110T183000Z
LOCATION:1. Sundby Gruppe\, Windsorvej 3\, 2300 København S
END:VEVENT
BEGIN:VEVENT
UID:gruppeweb.dk:2102:event:1466
DTSTAMP:20260420T175220Z
LAST-MODIFIED:20250923T174606Z
SUMMARY:Mikromøde
DESCRIPTION:\n
URL:https://1sundby.dk/begivenhed/mikromoede-83
DTSTART:20251103T010000Z
DTEND:20251103T183000Z
LOCATION:1. Sundby Gruppe\, Windsorvej 3\, 2300 København S
END:VEVENT
BEGIN:VEVENT
UID:gruppeweb.dk:2102:event:1467
DTSTAMP:20260420T175220Z
LAST-MODIFIED:20250923T174606Z
SUMMARY:Mikromøde
DESCRIPTION:\n
URL:https://1sundby.dk/begivenhed/mikromoede-84
DTSTART:20251027T010000Z
DTEND:20251027T183000Z
LOCATION:1. Sundby Gruppe\, Windsorvej 3\, 2300 København S
END:VEVENT
BEGIN:VEVENT
UID:gruppeweb.dk:2102:event:1468
DTSTAMP:20260420T175220Z
LAST-MODIFIED:20250923T174606Z
SUMMARY:Mikromøde
DESCRIPTION:\n
URL:https://1sundby.dk/begivenhed/mikromoede-85
DTSTART:20251020T000000Z
DTEND:20251020T173000Z
LOCATION:1. Sundby Gruppe\, Windsorvej 3\, 2300 København S
END:VEVENT
BEGIN:VEVENT
UID:gruppeweb.dk:2102:event:1469
DTSTAMP:20260420T175220Z
LAST-MODIFIED:20250923T174606Z
SUMMARY:Mikromøde
DESCRIPTION:\n
URL:https://1sundby.dk/begivenhed/mikromoede-86
DTSTART:20251006T000000Z
DTEND:20251006T173000Z
LOCATION:1. Sundby Gruppe\, Windsorvej 3\, 2300 København S
END:VEVENT
BEGIN:VEVENT
UID:gruppeweb.dk:2102:event:1470
DTSTAMP:20260420T175220Z
LAST-MODIFIED:20250923T174606Z
SUMMARY:Mikromøde
DESCRIPTION:\n
URL:https://1sundby.dk/begivenhed/mikromoede-87
DTSTART:20250929T000000Z
DTEND:20250929T173000Z
LOCATION:1. Sundby Gruppe\, Windsorvej 3\, 2300 København S
END:VEVENT
BEGIN:VEVENT
UID:gruppeweb.dk:2102:event:1471
DTSTAMP:20260420T175220Z
LAST-MODIFIED:20250923T174606Z
SUMMARY:Mikromøde
DESCRIPTION:\n
URL:https://1sundby.dk/begivenhed/mikromoede-88
DTSTART:20250922T000000Z
DTEND:20250922T173000Z
LOCATION:1. Sundby Gruppe\, Windsorvej 3\, 2300 København S
END:VEVENT
BEGIN:VEVENT
UID:gruppeweb.dk:2102:event:1472
DTSTAMP:20260420T175220Z
LAST-MODIFIED:20250923T174606Z
SUMMARY:Mikromøde
DESCRIPTION:\n
URL:https://1sundby.dk/begivenhed/mikromoede-89
DTSTART:20250915T000000Z
DTEND:20250915T173000Z
LOCATION:1. Sundby Gruppe\, Windsorvej 3\, 2300 København S
END:VEVENT
BEGIN:VEVENT
UID:gruppeweb.dk:2102:event:1473
DTSTAMP:20260420T175220Z
LAST-MODIFIED:20250923T174606Z
SUMMARY:Mikromøde
DESCRIPTION:\n
URL:https://1sundby.dk/begivenhed/mikromoede-90
DTSTART:20250908T000000Z
DTEND:20250908T173000Z
LOCATION:1. Sundby Gruppe\, Windsorvej 3\, 2300 København S
END:VEVENT
BEGIN:VEVENT
UID:gruppeweb.dk:2102:event:1474
DTSTAMP:20260420T175220Z
LAST-MODIFIED:20250923T174606Z
SUMMARY:Mikromøde
DESCRIPTION:\n
URL:https://1sundby.dk/begivenhed/mikromoede-91
DTSTART:20250901T000000Z
DTEND:20250901T173000Z
LOCATION:1. Sundby Gruppe\, Windsorvej 3\, 2300 København S
END:VEVENT
BEGIN:VEVENT
UID:gruppeweb.dk:2102:event:1475
DTSTAMP:20260420T175220Z
LAST-MODIFIED:20250923T174606Z
SUMMARY:Mikromøde
DESCRIPTION:\n
URL:https://1sundby.dk/begivenhed/mikromoede-92
DTSTART:20250825T000000Z
DTEND:20250825T173000Z
LOCATION:1. Sundby Gruppe\, Windsorvej 3\, 2300 København S
END:VEVENT
BEGIN:VEVENT
UID:gruppeweb.dk:2102:event:1476
DTSTAMP:20260420T175220Z
LAST-MODIFIED:20250923T174606Z
SUMMARY:Mikromøde
DESCRIPTION:\n
URL:https://1sundby.dk/begivenhed/mikromoede-93
DTSTART:20250818T000000Z
DTEND:20250818T173000Z
LOCATION:1. Sundby Gruppe\, Windsorvej 3\, 2300 København S
END:VEVENT
BEGIN:VEVENT
UID:gruppeweb.dk:2102:event:1478
DTSTAMP:20260420T175220Z
LAST-MODIFIED:20251106T051437Z
SUMMARY:Mikro overnatning
DESCRIPTION:\n
URL:https://1sundby.dk/begivenhed/mikro-overnatning
DTSTART:20251107T160000Z
DTEND:20251108T090000Z
LOCATION:1. Sundby Gruppe\, Windsorvej 3\, 2300 København S
END:VEVENT
BEGIN:VEVENT
UID:gruppeweb.dk:2102:event:1491
DTSTAMP:20260420T175220Z
LAST-MODIFIED:20260129T173426Z
SUMMARY:Mikro/Mini tur 2026
DESCRIPTION:\n
URL:https://1sundby.dk/begivenhed/mikromini-tur-2026
DTSTART:20260227T180000Z
DTEND:20260301T100000Z
LOCATION:Myretuen\, Blåkærvej 2\, 3540 Lynge
END:VEVENT
END:VCALENDAR
